Workbook
Name BaseTablesList: AnnGenHiddenLists!$A$4:$A$160
Name DATE_MODIFIED: 'Version Control'!$C$17
Name FACTOR_LIST_AGE_DEF: 'Factor List'!$G$7
Name FACTOR_LIST_CLIENT: 'Factor List'!$B$7
Name FACTOR_LIST_DATE_IMPLEMENTED: '[1]Factor List'!#REF!
Name FACTOR_LIST_DATE_IMPLEMENTED: '[1]Factor List'!#REF!
Name FACTOR_LIST_DATE_IMPLEMENTED: '[1]Factor List'!#REF!
Name FACTOR_LIST_DATE_IMPLEMENTED: '[1]Factor List'!#REF!
Name FACTOR_LIST_DATE_IMPLEMENTED: '[1]Factor List'!#REF!
Name FACTOR_LIST_DATE_IMPLEMENTED: '[1]Factor List'!#REF!
Name FACTOR_LIST_DATE_IMPLEMENTED: '[1]Factor List'!#REF!
Name FACTOR_LIST_DATE_IMPLEMENTED: '[1]Factor List'!#REF!
Name FACTOR_LIST_DATE_IMPLEMENTED: '[1]Factor List'!#REF!
Name FACTOR_LIST_DATE_IMPLEMENTED: '[1]Factor List'!#REF!
Name FACTOR_LIST_DATE_IMPLEMENTED: '[1]Factor List'!#REF!
Name FACTOR_LIST_DATE_IMPLEMENTED: '[1]Factor List'!#REF!
Name FACTOR_LIST_DATE_IMPLEMENTED: '[1]Factor List'!#REF!
Name FACTOR_LIST_DATE_IMPLEMENTED: '[1]Factor List'!#REF!
Name FACTOR_LIST_DATE_IMPLEMENTED: '[1]Factor List'!#REF!
Name FACTOR_LIST_DATE_IMPLEMENTED: '[1]Factor List'!#REF!
Name FACTOR_LIST_DATE_IMPLEMENTED: '[1]Factor List'!#REF!
Name FACTOR_LIST_DATE_IMPLEMENTED: '[1]Factor List'!#REF!
Name FACTOR_LIST_DATE_IMPLEMENTED: '[1]Factor List'!#REF!
Name FACTOR_LIST_DATE_IMPLEMENTED: '[1]Factor List'!#REF!
Name FACTOR_LIST_DATE_IMPLEMENTED: '[1]Factor List'!#REF!
Name FACTOR_LIST_DATE_IMPLEMENTED: '[1]Factor List'!#REF!
Name FACTOR_LIST_DATE_IMPLEMENTED: '[1]Factor List'!#REF!
Name FACTOR_LIST_DATE_IMPLEMENTED: '[1]Factor List'!#REF!
Name FACTOR_LIST_DATE_IMPLEMENTED: '[1]Factor List'!#REF!
Name FACTOR_LIST_DATE_IMPLEMENTED: '[1]Factor List'!#REF!
Name FACTOR_LIST_DATE_IMPLEMENTED: '[1]Factor List'!#REF!
Name FACTOR_LIST_DATE_IMPLEMENTED: '[1]Factor List'!#REF!
Name FACTOR_LIST_DATE_IMPLEMENTED: '[1]Factor List'!#REF!
Name FACTOR_LIST_DATE_IMPLEMENTED: '[1]Factor List'!#REF!
Name FACTOR_LIST_DATE_IMPLEMENTED: '[1]Factor List'!#REF!
Name FACTOR_LIST_DATE_IMPLEMENTED: '[1]Factor List'!#REF!
Name FACTOR_LIST_DATE_IMPLEMENTED: '[1]Factor List'!#REF!
Name FACTOR_LIST_DATE_IMPLEMENTED: '[1]Factor List'!#REF!
Name FACTOR_LIST_DATE_IMPLEMENTED: '[1]Factor List'!#REF!
Name FACTOR_LIST_DATE_IMPLEMENTED: '[1]Factor List'!#REF!
Name FACTOR_LIST_DATE_IMPLEMENTED: '[1]Factor List'!#REF!
Name FACTOR_LIST_DATE_IMPLEMENTED: '[1]Factor List'!#REF!
Name FACTOR_LIST_DATE_IMPLEMENTED: '[1]Factor List'!#REF!
Name FACTOR_LIST_DATE_IMPLEMENTED: '[1]Factor List'!#REF!
Name FACTOR_LIST_DATE_IMPLEMENTED: '[1]Factor List'!#REF!
Name FACTOR_LIST_DATE_IMPLEMENTED: '[1]Factor List'!#REF!
Name FACTOR_LIST_DATE_IMPLEMENTED: '[1]Factor List'!#REF!
Name FACTOR_LIST_DATE_IMPLEMENTED: 'Factor List'!$N$7
Name FACTOR_LIST_DATE_ISSUED: 'Factor List'!$M$7
Name FACTOR_LIST_DESCRIPTION: 'Factor List'!$E$7
Name FACTOR_LIST_FACTOR_STATUS: '[1]Factor List'!#REF!
Name FACTOR_LIST_FACTOR_STATUS: '[1]Factor List'!#REF!
Name FACTOR_LIST_FACTOR_STATUS: '[1]Factor List'!#REF!
Name FACTOR_LIST_FACTOR_STATUS: '[1]Factor List'!#REF!
Name FACTOR_LIST_FACTOR_STATUS: '[1]Factor List'!#REF!
Name FACTOR_LIST_FACTOR_STATUS: '[1]Factor List'!#REF!
Name FACTOR_LIST_FACTOR_STATUS: '[1]Factor List'!#REF!
Name FACTOR_LIST_FACTOR_STATUS: '[1]Factor List'!#REF!
Name FACTOR_LIST_FACTOR_STATUS: '[1]Factor List'!#REF!
Name FACTOR_LIST_FACTOR_STATUS: '[1]Factor List'!#REF!

Sheet Cover
A1: Government Actuary's Department
A2: Police_EW - Consolidated Factor Spreadsheet
A3: Cover
A4: =CELL("filename",A1) -> P:\AST development\Hosted\Factors Modernisation\Data import\Consolidated Factor Workbooks\[Police EW Consolidated Factors 2023-04.xlsm]Cover
A7: Specification | B7: This spreadsheet contains the full suite of factors that are in force for the Police_EW.
A11: Sheet | B11: Description
A12: Purpose of spreadsheet | B12: This sheet sets out the purpose of the spreadsheet and includes caveats on the use of the spreadsheet.
A13: Version Control | B13: This sheet is used to show which factor tables have been updated since the last issued version of the consolidated factor spreadsheet.
A14: Factor List | B14: This sheet lists the full suite of factors that are in force together with the following information:
A15: x-201 and onwards | B15: The 200 series factors contain the club and non club transfer factors. Each different type of club and non club transfer factor is set out on a separate sheet starting with sheet x-201, where x relates to the scheme section (if applicable).
A16: x-301 and onwards | B16: The 300 series factors contain the pension sharing on divorce factors. Each different type of pension sharing on divorce factor is set out on a separate sheet starting with sheet x-301, where x relates to the scheme section (if applicable).
A17: x-401 and onwards | B17: The 400 series factors contain the early of late retirement factors. Each different type of early or late retirement factor is set out on a separate sheet starting with sheet x-401, where x relates to the scheme section (if applicable).
A18: x-501 and onwards | B18: The 500 series factors contain the commutation factors. Each different type of commutation factor is set out on a separate sheet starting with sheet x-501, where x relates to the scheme section (if applicable).
A19: x-601 and onwards | B19: The 600 series factors contain the scheme pays factors. Each different type of scheme pays factor is set out on a separate sheet starting with sheet x-601, where x relates to the scheme section (if applicable).
A20: x-701 and onwards | B20: The 700 series factors contain the additional benefit or additional contribution factors. Each different type of additional benefit or additional contribution factor is set out on a separate sheet starting with sheet x-701, where x relates to the scheme section (if applicable).
A21: x-801 and onwards | B21: The 800 series factors contain the other scheme specific factors. Each different type of other scheme specific factor is set out on a separate sheet starting with sheet x-801, where x relates to the scheme section (if applicable).

Sheet Purpose of spreadsheet
A1: Government Actuary's Department
A2: =IF(title="> Enter workbook title here","Enter workbook title in Cover sheet",title) -> Police_EW - Consolidated Factor Spreadsheet
A3: Purpose of Spreadsheet
A4: =CELL("filename",A1) -> P:\AST development\Hosted\Factors Modernisation\Data import\Consolidated Factor Workbooks\[Police EW Consolidated Factors 2023-04.xlsm]Purpose of spreadsheet
A7: Purpose of the Home Office ("HO") Consolidated Factor Spreadsheet
A9: This spreadsheet is provided by GAD at the request of HO. Its purpose is to set out in one place for convenience the actuarial factors provided by GAD to HO from time to time in respect of Police Pension Scheme (England & Wales) and related schemes, and the dates on which these factors have been sent to the client and implemented by the client. It should not be used or relied on for any other purpose and GAD has no liability for any act or omission taken on the basis of this spreadsheet. In particular, it does not constitute an instruction or manual for plan administration purposes, and it does not cover the implementation or backdating of factors other than to specify the factor implementation date (if provided by Home Office ("HO"))]. GAD has no liability for any changes made to this spreadsheet whilst being used by Home Office ("HO") or any other third party. This spreadsheet should not be made available online without the express permission of GAD. This spreadsheet is password protected.

Sheet Version Control
A1: Government Actuary's Department
A2: =IF(title="> Enter workbook title here","Enter workbook title in Cover sheet",title) -> Police_EW - Consolidated Factor Spreadsheet
A3: Version Control
A6: Version control
A8: This sheet is intended to assist Home Office (HO) in understanding which factors have changed and when.
A9: Version control on this sheet commences with the 2017/18 factor review (version 2018-1)
A11: Version [Year]- [version number starting at 1] ([Month & Year]) | C11: Example
A12: Provides the following new factor tables: | C12: 401, 501,
A13: Provides the following revised factors: | C13: 101, 106, 107
A14: Confirms that the following factor table is no longer required by [Client]: | C14: 201
A15: Factors still to follow: | C15: 104-108, 205-210
A16: Methodology changes: | C16: None except GMP percentages changed in tables 101-106, 201-206, 301-302, 304
A17: Date modified: | C17: 43410.707
A19: Version 2023-01
A20: Provides the following new factor tables:
A21: Provides the following updated factor tables: | C21: x-201 to x-221 (excluding 201C, 202C, 205C and 206C), x-229, x-301 to x-336, x-505 to x-507
A22: Withdrawn factors | C22: x230 and x-231 removed (GMP factors)
A23: Methodology changes:
A24: Date Modified: | C24: 45070
A26: Version 2023-02
A27: Provides the following new factor tables:
A28: Provides the following updated factor tables: | C28: x-226 to x-228 x-401 to x-407
A29: Withdrawn factor tables | C29: x-222 to x-225 removed (TV-ins (final salary sections only))
A30: Methodology changes:
A31: Date Modified: | C31: 45106
A34: Version 2023-03
A35: Provides the following new factor tables:
A36: Provides the following updated factor tables: | C36: x-501 to x-504 x-601 to x-626 x-801 to x-802
A37: Withdrawn factor tables
A38: Methodology changes:
A39: Date Modified: | C39: 45135
A42: Version 2023-04
A43: Provides the following new factor tables:
A44: Provides the following updated factor tables: | C44: x-701 to x-702 x-703 201C, 202C (Updated copy of 2023 Club factor tables) 205C, 206C (Club factors for active members entitled to immediate benefits)
A45: Withdrawn factor tables
A46: Methodology changes:
A47: Date Modified: | C47: 45196

Sheet Summary - Police_EW
A1: Government Actuary's Department
A2: =IF(title="> Enter workbook title here","Enter workbook title in Cover sheet",title) -> Police_EW - Consolidated Factor Spreadsheet
A3: Summary of Factors
A4: =CELL("filename",A1) -> P:\AST development\Hosted\Factors Modernisation\Data import\Consolidated Factor Workbooks\[Police EW Consolidated Factors 2023-04.xlsm]Summary - Police_EW
E7: x=0 | F7: x=1 | G7: x=2
B8: Police_EW | E8: 2015 | F8: 2006 | G8: 1987
B10: 100 Series - Club Transfer
B11: x- | C11: 101
B12: x- | C12: 102
B13: x- | C13: 103
B14: x- | C14: 104
B15: x- | C15: 105
B16: x- | C16: 106
B17: x- | C17: 107
B18: x- | C18: 108
B19: x- | C19: 109
B20: x- | C20: 110
B21: x- | C21: 111
B22: x- | C22: 112
... B35: x- | C35: 125
B37: 200 Series - Non Club Transfers
B38: x- | C38: 201
B39: x- | C39: 202
B40: x- | C40: 203
B41: x- | C41: 204
B42: x- | C42: 205
B43: x- | C43: 206
B44: x- | C44: 207
B45: x- | C45: 208
B46: x- | C46: 209
B47: x- | C47: 210
B48: x- | C48: 211
B49: x- | C49: 212
... B62: x- | C62: 225
B64: 300 Series - Pension Sharing on divorce
B65: x- | C65: 301
B66: x- | C66: 302
B67: x- | C67: 303
B68: x- | C68: 304
B69: x- | C69: 305
...

Sheet AnnGenHiddenLists
A1: DO NOT REMOVE WORKSHEET
A3: BaseTablesList | C3: ImprovementsList
A4: PCFA00 | C4: CMI2016F-07-1pt5
A5: PCMA00 | C5: CMI2016M-07-1pt5
A6: PFA80 | C6: Long Cohort
A7: PFA92 | C7: Medium Cohort
A8: PFA92 - 08 | C8: PFA80imp
A9: PFA92-10 | C9: PFA92
A10: PMA80 | C10: PMA80imp
A11: PMA92 | C11: PMA92
A12: PMA92 - 08 | C12: Short Cohort
A13: PMA92-10 | C13: SMPI-2018imp
A14: PNFA00 | C14: UKF2004imp
... A36: S1IFA-08 | C36: None
A37: S1IFA-10
A38: S1IFA-12
A39: S1IFA-14
A40: S1IFA-16
A41: S1IFA-STSS-16
A42: S1IFA-TPS-16
A43: S1IMA
A44: S1IMA-06
A45: S1IMA-08
A46: S1IMA-10
A47: S1IMA-12
A48: S1IMA-14
... A160: UKM2012

Sheet Factor List
A1: Government Actuary's Department
A2: =IF(title="> Enter workbook title here","Enter workbook title in Cover sheet",title) -> Police_EW - Consolidated Factor Spreadsheet
A3: Factor List
A7: Link to Tables | B7: Scheme | C7: Section | D7: Factor Type | E7: Description | F7: Gender | G7: Factor Age/Period Definition | H7: Section Number (x) | I7: Series Number | J7: Table Reference (Section-Series Number) | K7: Table Reference in Guidance | L7: Associated Guidance Note | M7: Date Factors Issued to Client | N7: Date Factors Implemented (if known) | O7: Factor Status | P7: Table ID | Q7: Source | R7: UserID | S7: Time Stamp
A8: Click to go to the relevant factors | D8: Filter by factor type
A9: =HYPERLINK("#'"&I9 & "'!A1",I9) -> NA1 (201) | B9: Police_EW | C9: 1987 | D9: CETV | E9: Non club transfer value factors for deferred benefits payable from 60 | F9: Male | G9: Age last birthday at relevant date | H9: 2 | I9: NA1 (201) | J9: 2-201 | K9: Table NA1 | L9: Police pension schemes (England & Wales): 1987 Scheme; Transfer values and pension sharing on divorce; Factors and guidance, dated 10 December 2020 | M9: 45070 | O9: Issued | P9: POLICE_EW_2-201 | Q9: \\GAD-AST\AST\Factors\2022\2022 Factor Review\Pol EW\Step 4 Mortality Change\POL EW CETV bespoke outputs - A + B - C v0.02 v5 SCAPE 1.7% v0.02_GMP2.3 NI_Mods S3_Tables.xlsm | R9: Scott.WaygoodMA | S9: 44977.468
A10: =HYPERLINK("#'"&I10 & "'!A1",I10) -> A1 (201C) | C10: 1987 | D10: CETV | E10: Club transfer value factors for deferred benefits payable from 60 | F10: Male | G10: Age last birthday at relevant date | H10: 2 | I10: A1 (201C) | J10: 201C | K10: Table A1 | L10: Police pension schemes (England & Wales): 1987 Scheme; Transfer values and pension sharing on divorce; Factors and guidance, dated 10 December 2020 | M10: 45169 | N10: 45200 | O10: Issued
A11: =HYPERLINK("#'"&I11 & "'!A1",I11) -> NA2 (202) | B11: Police_EW | C11: 1987 | D11: CETV | E11: Non club transfer value factors for deferred benefits payable from 60 | F11: Female | G11: Age last birthday at relevant date | H11: 2 | I11: NA2 (202) | J11: 2-202 | K11: Table NA2 | L11: Police pension schemes (England & Wales): 1987 Scheme; Transfer values and pension sharing on divorce; Factors and guidance, dated 10 December 2020 | M11: 45070 | O11: Issued | P11: POLICE_EW_2-202 | Q11: \\GAD-AST\AST\Factors\2022\2022 Factor Review\Pol EW\Step 4 Mortality Change\POL EW CETV bespoke outputs - A + B - C v0.02 v5 SCAPE 1.7% v0.02_GMP2.3 NI_Mods S3_Tables.xlsm | R11: Scott.WaygoodMA | S11: 44977.468
A12: =HYPERLINK("#'"&I12 & "'!A1",I12) -> A2 (202C) | C12: 1987 | D12: CETV | E12: Club transfer value factors for deferred benefits payable from 60 | F12: Female | G12: Age last birthday at relevant date | H12: 2 | I12: A2 (202C) | J12: 202C | K12: Table A2 | L12: Police pension schemes (England & Wales): 1987 Scheme; Transfer values and pension sharing on divorce; Factors and guidance, dated 10 December 2020 | M12: 45169 | N12: 45200 | O12: Issued
A13: =HYPERLINK("#'"&I13 & "'!A1",I13) -> D1 (203) | B13: Police_EW | C13: 1987 | D13: CETV | E13: CETV factors for deferred benefits payable from 50 | F13: Male | G13: Age last birthday at relevant date | H13: 2 | I13: D1 (203) | J13: 2-203 | K13: Table D1 | L13: Police pension schemes (England & Wales): 1987 Scheme; Transfer values and pension sharing on divorce; Factors and guidance, dated 10 December 2020 | M13: 45070 | O13: Issued | P13: POLICE_EW_2-203 | Q13: \\GAD-AST\AST\Factors\2022\2022 Factor Review\Pol EW\Step 4 Mortality Change\POL EW CETV bespoke outputs - A + B - C v0.02 v5 SCAPE 1.7% v0.02_GMP2.3 NI_Mods S3_Tables.xlsm | R13: Scott.WaygoodMA | S13: 44977.468
A14: =HYPERLINK("#'"&I14 & "'!A1",I14) -> D2 (204) | B14: Police_EW | C14: 1987 | D14: CETV | E14: CETV factors for deferred benefits payable from 50 | F14: Female | G14: Age last birthday at relevant date | H14: 2 | I14: D2 (204) | J14: 2-204 | K14: Table D2 | L14: Police pension schemes (England & Wales): 1987 Scheme; Transfer values and pension sharing on divorce; Factors and guidance, dated 10 December 2020 | M14: 45070 | O14: Issued | P14: POLICE_EW_2-204 | Q14: \\GAD-AST\AST\Factors\2022\2022 Factor Review\Pol EW\Step 4 Mortality Change\POL EW CETV bespoke outputs - A + B - C v0.02 v5 SCAPE 1.7% v0.02_GMP2.3 NI_Mods S3_Tables.xlsm | R14: Scott.WaygoodMA | S14: 44977.468
A15: =HYPERLINK("#'"&I15 & "'!A1",I15) -> NF1 (205) | B15: Police_EW | C15: 1987 | D15: CETV | E15: Non club transfer value factors for active members entitled to immediate benefits | F15: Male | G15: Age last birthday at relevant date | H15: 2 | I15: NF1 (205) | J15: 2-205 | K15: Table NF1 | L15: Police pension schemes (England & Wales): 1987 Scheme; Transfer values and pension sharing on divorce; Factors and guidance, dated 10 December 2020 | M15: 45070 | O15: Issued | P15: POLICE_EW_2-205 | Q15: \\GAD-AST\AST\Factors\2022\2022 Factor Review\Pol EW\Step 4 Mortality Change\POL EW CETV bespoke outputs - A + B - C v0.02 v5 SCAPE 1.7% v0.02_GMP2.3 NI_Mods S3_Tables.xlsm | R15: Scott.WaygoodMA | S15: 44977.468
A16: =HYPERLINK("#'"&I16 & "'!A1",I16) -> F1 (205C) | C16: 1987 | D16: CETV | E16: Club transfer value factors for active members entitled to immediate benefits | F16: Male | G16: Age last birthday at relevant date | H16: 2 | I16: F1 (205C) | J16: 205C | K16: Table F1 | L16: Police pension schemes (England & Wales): 1987 Scheme; Transfer values and pension sharing on divorce; Factors and guidance, dated 10 December 2020 | M16: 45196 | N16: 45200 | O16: Issued
A17: =HYPERLINK("#'"&I17 & "'!A1",I17) -> NF2 (206) | B17: Police_EW | C17: 1987 | D17: CETV | E17: Non club transfer value factors for active members entitled to immediate benefits | F17: Female | G17: Age last birthday at relevant date | H17: 2 | I17: NF2 (206) | J17: 2-206 | K17: Table NF2 | L17: Police pension schemes (England & Wales): 1987 Scheme; Transfer values and pension sharing on divorce; Factors and guidance, dated 10 December 2020 | M17: 45070 | O17: Issued | P17: POLICE_EW_2-206 | Q17: \\GAD-AST\AST\Factors\2022\2022 Factor Review\Pol EW\Step 4 Mortality Change\POL EW CETV bespoke outputs - A + B - C v0.02 v5 SCAPE 1.7% v0.02_GMP2.3 NI_Mods S3_Tables.xlsm | R17: Scott.WaygoodMA | S17: 44977.468
A18: =HYPERLINK("#'"&I18 & "'!A1",I18) -> F2 (206C) | C18: 1987 | D18: CETV | E18: Club transfer value factors for active members entitled to immediate benefits | F18: Female | G18: Age last birthday at relevant date | H18: 2 | I18: F2 (206C) | J18: 206C | K18: Table F2 | L18: Police pension schemes (England & Wales): 1987 Scheme; Transfer values and pension sharing on divorce; Factors and guidance, dated 10 December 2020 | M18: 45196 | N18: 45200 | O18: Issued
A19: =HYPERLINK("#'"&I19 & "'!A1",I19) -> NA1_06 (207) | B19: Police_EW | C19: 2006 | D19: CETV | E19: Non club transfer value factors for deferred benefits payable from 65 | F19: Male | G19: Age last birthday at relevant date | H19: 1 | I19: NA1_06 (207) | J19: 1-207 | K19: Table NA1_06 | L19: Police pension schemes (England & Wales): 2006 Scheme; Transfer values and pension sharing on divorce; Factors and guidance, dated 10 December 2020 | M19: 45070 | O19: Issued | P19: POLICE_EW_1-207 | Q19: \\GAD-AST\AST\Factors\2022\2022 Factor Review\Pol EW\Step 4 Mortality Change\POL EW CETV bespoke outputs - A + B - C v0.02 v5 SCAPE 1.7% v0.02_GMP2.3 NI_Mods S3_Tables.xlsm | R19: Scott.WaygoodMA | S19: 44977.468
A20: =HYPERLINK("#'"&I20 & "'!A1",I20) -> NA2_06 (208) | B20: Police_EW | C20: 2006 | D20: CETV | E20: Non club transfer value factors for deferred benefits payable from 65 - Females aged below 60 | F20: Female | G20: Age last birthday at relevant date | H20: 1 | I20: NA2_06 (208) | J20: 1-208 | K20: Table NA2_06 | L20: Police pension schemes (England & Wales): 2006 Scheme; Transfer values and pension sharing on divorce; Factors and guidance, dated 10 December 2020 | M20: 45070 | O20: Issued | P20: POLICE_EW_1-208 | Q20: \\GAD-AST\AST\Factors\2022\2022 Factor Review\Pol EW\Step 4 Mortality Change\POL EW CETV bespoke outputs - A + B - C v0.02 v5 SCAPE 1.7% v0.02_GMP2.3 NI_Mods S3_Tables.xlsm | R20: Scott.WaygoodMA | S20: 44977.468
A21: =HYPERLINK("#'"&I21 & "'!A1",I21) -> NA3_06 (209) | B21: Police_EW | C21: 2006 | D21: CETV | E21: Non club transfer value factors for deferred benefits payable from 65 - Females aged 60 and over | F21: Female | G21: Age last birthday at relevant date | H21: 1 | I21: NA3_06 (209) | J21: 1-209 | K21: Table NA3_06 | L21: Police pension schemes (England & Wales): 2006 Scheme; Transfer values and pension sharing on divorce; Factors and guidance, dated 10 December 2020 | M21: 45070 | O21: Issued | Q21: \\GAD-AST\AST\Factors\2022\2022 Factor Review\Pol EW\Step 4 Mortality Change\POL EW CETV bespoke outputs - A + B - C v0.02 v5 SCAPE 1.7% v0.02_GMP2.3 NI_Mods S3_Tables.xlsm | R21: Scott.WaygoodMA | S21: 44977.468
A22: =HYPERLINK("#'"&I22 & "'!A1",I22) -> NF1_06 (210) | B22: Police_EW | C22: 2006 | D22: CETV | E22: Non club transfer value factors for active members entitled to immediate benefits | F22: Male | G22: Age last birthday at relevant date | H22: 1 | I22: NF1_06 (210) | J22: 1-210 | K22: Table NF1_06 | L22: Police pension schemes (England & Wales): 2006 Scheme; Transfer values and pension sharing on divorce; Factors and guidance, dated 10 December 2020 | M22: 45070 | O22: Issued | P22: POLICE_EW_1-210 | Q22: \\GAD-AST\AST\Factors\2022\2022 Factor Review\Pol EW\Step 4 Mortality Change\POL EW CETV bespoke outputs - A + B - C v0.02 v5 SCAPE 1.7% v0.02_GMP2.3 NI_Mods S3_Tables.xlsm | R22: Scott.WaygoodMA | S22: 44977.468
A23: =HYPERLINK("#'"&I23 & "'!A1",I23) -> NF2_06 (211) | B23: Police_EW | C23: 2006 | D23: CETV | E23: Non club transfer value factors for active members entitled to immediate benefits | F23: Female | G23: Age last birthday at relevant date | H23: 1 | I23: NF2_06 (211) | J23: 1-211 | K23: Table NF2_06 | L23: Police pension schemes (England & Wales): 2006 Scheme; Transfer values and pension sharing on divorce; Factors and guidance, dated 10 December 2020 | M23: 45070 | O23: Issued | P23: POLICE_EW_1-211 | Q23: \\GAD-AST\AST\Factors\2022\2022 Factor Review\Pol EW\Step 4 Mortality Change\POL EW CETV bespoke outputs - A + B - C v0.02 v5 SCAPE 1.7% v0.02_GMP2.3 NI_Mods S3_Tables.xlsm | R23: Scott.WaygoodMA | S23: 44977.468
A24: =HYPERLINK("#'"&I24 & "'!A1",I24) -> NA1_15_65 (212) | B24: Police_EW | C24: 2015 | D24: CETV | E24: Non club transfer value factors for deferred benefits payable from NPA 65 | F24: Male | G24: Age last birthday at relevant date | H24: 0 | I24: NA1_15_65 (212) | J24: 0-212 | K24: Table NA1_15_65 | L24: Police pension schemes (England & Wales): 2015 Scheme; Transfer values and pension sharing on divorce; Factors and guidance, dated 10 December 2020 | M24: 45070 | O24: Issued | P24: POLICE_EW_0-212 | Q24: \\GAD-AST\AST\Factors\2022\2022 Factor Review\Pol EW\Step 4 Mortality Change\POL EW CETV bespoke outputs - A + B - C v0.02 v5 SCAPE 1.7% v0.02_GMP2.3 NI_Mods S3_Tables.xlsm | R24: Scott.WaygoodMA | S24: 44977.468
A25: =HYPERLINK("#'"&I25 & "'!A1",I25) -> NA1_15_66 (213) | B25: Police_EW | C25: 2015 | D25: CETV | E25: Non club transfer value factors for deferred benefits payable from NPA 66 | F25: Male | G25: Age last birthday at relevant date | H25: 0 | I25: NA1_15_66 (213) | J25: 0-213 | K25: Table NA1_15_66 | L25: Police pension schemes (England & Wales): 2015 Scheme; Transfer values and pension sharing on divorce; Factors and guidance, dated 10 December 2020 | M25: 45070 | O25: Issued | P25: POLICE_EW_0-213 | Q25: \\GAD-AST\AST\Factors\2022\2022 Factor Review\Pol EW\Step 4 Mortality Change\POL EW CETV bespoke outputs - A + B - C v0.02 v5 SCAPE 1.7% v0.02_GMP2.3 NI_Mods S3_Tables.xlsm | R25: Scott.WaygoodMA | S25: 44977.468
A26: =HYPERLINK("#'"&I26 & "'!A1",I26) -> NA1_15_67 (214) | B26: Police_EW | C26: 2015 | D26: CETV | E26: Non club transfer value factors for deferred benefits payable from NPA 67 | F26: Male | G26: Age last birthday at relevant date | H26: 0 | I26: NA1_15_67 (214) | J26: 0-214 | K26: Table NA1_15_67 | L26: Police pension schemes (England & Wales): 2015 Scheme; Transfer values and pension sharing on divorce; Factors and guidance, dated 10 December 2020 | M26: 45070 | O26: Issued | P26: POLICE_EW_0-214 | Q26: \\GAD-AST\AST\Factors\2022\2022 Factor Review\Pol EW\Step 4 Mortality Change\POL EW CETV bespoke outputs - A + B - C v0.02 v5 SCAPE 1.7% v0.02_GMP2.3 NI_Mods S3_Tables.xlsm | R26: Scott.WaygoodMA | S26: 44977.468
A27: =HYPERLINK("#'"&I27 & "'!A1",I27) -> NA1_15_68 (215) | B27: Police_EW | C27: 2015 | D27: CETV | E27: Non club transfer value factors for deferred benefits payable from NPA 68 | F27: Male | G27: Age last birthday at relevant date | H27: 0 | I27: NA1_15_68 (215) | J27: 0-215 | K27: Table NA1_15_68 | L27: Police pension schemes (England & Wales): 2015 Scheme; Transfer values and pension sharing on divorce; Factors and guidance, dated 10 December 2020 | M27: 45070 | O27: Issued | P27: POLICE_EW_0-215 | Q27: \\GAD-AST\AST\Factors\2022\2022 Factor Review\Pol EW\Step 4 Mortality Change\POL EW CETV bespoke outputs - A + B - C v0.02 v5 SCAPE 1.7% v0.02_GMP2.3 NI_Mods S3_Tables.xlsm | R27: Scott.WaygoodMA | S27: 44977.468
A28: =HYPERLINK("#'"&I28 & "'!A1",I28) -> NA2_15_65 (216) | B28: Police_EW | C28: 2015 | D28: CETV | E28: Non club transfer value factors for deferred benefits payable from NPA 65 | F28: Female | G28: Age last birthday at relevant date | H28: 0 | I28: NA2_15_65 (216) | J28: 0-216 | K28: Table NA2_15_65 | L28: Police pension schemes (England & Wales): 2015 Scheme; Transfer values and pension sharing on divorce; Factors and guidance, dated 10 December 2020 | M28: 45070 | O28: Issued | P28: POLICE_EW_0-216 | Q28: \\GAD-AST\AST\Factors\2022\2022 Factor Review\Pol EW\Step 4 Mortality Change\POL EW CETV bespoke outputs - A + B - C v0.02 v5 SCAPE 1.7% v0.02_GMP2.3 NI_Mods S3_Tables.xlsm | R28: Scott.WaygoodMA | S28: 44977.468
A29: =HYPERLINK("#'"&I29 & "'!A1",I29) -> NA2_15_66 (217) | B29: Police_EW | C29: 2015 | D29: CETV | E29: Non club transfer value factors for deferred benefits payable from NPA 66 | F29: Female | G29: Age last birthday at relevant date | H29: 0 | I29: NA2_15_66 (217) | J29: 0-217 | K29: Table NA2_15_66 | L29: Police pension schemes (England & Wales): 2015 Scheme; Transfer values and pension sharing on divorce; Factors and guidance, dated 10 December 2020 | M29: 45070 | O29: Issued | P29: POLICE_EW_0-217 | Q29: \\GAD-AST\AST\Factors\2022\2022 Factor Review\Pol EW\Step 4 Mortality Change\POL EW CETV bespoke outputs - A + B - C v0.02 v5 SCAPE 1.7% v0.02_GMP2.3 NI_Mods S3_Tables.xlsm | R29: Scott.WaygoodMA | S29: 44977.468
A30: =HYPERLINK("#'"&I30 & "'!A1",I30) -> NA2_15_67 (218) | B30: Police_EW | C30: 2015 | D30: CETV | E30: Non club transfer value factors for deferred benefits payable from NPA 67 | F30: Female | G30: Age last birthday at relevant date | H30: 0 | I30: NA2_15_67 (218) | J30: 0-218 | K30: Table NA2_15_67 | L30: Police pension schemes (England & Wales): 2015 Scheme; Transfer values and pension sharing on divorce; Factors and guidance, dated 10 December 2020 | M30: 45070 | O30: Issued | P30: POLICE_EW_0-218 | Q30: \\GAD-AST\AST\Factors\2022\2022 Factor Review\Pol EW\Step 4 Mortality Change\POL EW CETV bespoke outputs - A + B - C v0.02 v5 SCAPE 1.7% v0.02_GMP2.3 NI_Mods S3_Tables.xlsm | R30: Scott.WaygoodMA | S30: 44977.468
A31: =HYPERLINK("#'"&I31 & "'!A1",I31) -> NA2_15_68 (219) | B31: Police_EW | C31: 2015 | D31: CETV | E31: Non club transfer value factors for deferred benefits payable from NPA 68 | F31: Female | G31: Age last birthday at relevant date | H31: 0 | I31: NA2_15_68 (219) | J31: 0-219 | K31: Table NA2_15_68 | L31: Police pension schemes (England & Wales): 2015 Scheme; Transfer values and pension sharing on divorce; Factors and guidance, dated 10 December 2020 | M31: 45070 | O31: Issued | P31: POLICE_EW_0-219 | Q31: \\GAD-AST\AST\Factors\2022\2022 Factor Review\Pol EW\Step 4 Mortality Change\POL EW CETV bespoke outputs - A + B - C v0.02 v5 SCAPE 1.7% v0.02_GMP2.3 NI_Mods S3_Tables.xlsm | R31: Scott.WaygoodMA | S31: 44977.468
A32: =HYPERLINK("#'"&I32 & "'!A1",I32) -> NF1_15 (220) | B32: Police_EW | C32: 2015 | D32: CETV | E32: Non club transfer value factors for active members entitled to immediate benefits | F32: Male | G32: Age last birthday at relevant date | H32: 0 | I32: NF1_15 (220) | J32: 0-220 | K32: Table NF1_15 | L32: Police pension schemes (England & Wales): 2015 Scheme; Transfer values and pension sharing on divorce; Factors and guidance, dated 10 December 2020 | M32: 45070 | O32: Issued | P32: POLICE_EW_0-220 | Q32: \\GAD-AST\AST\Factors\2022\2022 Factor Review\Pol EW\Step 4 Mortality Change\POL EW CETV bespoke outputs - A + B - C v0.02 v5 SCAPE 1.7% v0.02_GMP2.3 NI_Mods S3_Tables.xlsm | R32: Scott.WaygoodMA | S32: 44977.468
A33: =HYPERLINK("#'"&I33 & "'!A1",I33) -> NF2_15 (221) | B33: Police_EW | C33: 2015 | D33: CETV | E33: Non club transfer value factors for active members entitled to immediate benefits | F33: Female | G33: Age last birthday at relevant date | H33: 0 | I33: NF2_15 (221) | J33: 0-221 | K33: Table NF2_15 | L33: Police pension schemes (England & Wales): 2015 Scheme; Transfer values and pension sharing on divorce; Factors and guidance, dated 10 December 2020 | M33: 45070 | O33: Issued | P33: POLICE_EW_0-221 | Q33: \\GAD-AST\AST\Factors\2022\2022 Factor Review\Pol EW\Step 4 Mortality Change\POL EW CETV bespoke outputs - A + B - C v0.02 v5 SCAPE 1.7% v0.02_GMP2.3 NI_Mods S3_Tables.xlsm | R33: Scott.WaygoodMA | S33: 44977.468
A34: =HYPERLINK("#'"&I34 & "'!A1",I34) -> TVIN_15M (226) | B34: Police_EW | C34: 2015 | D34: TV In (non-club) | E34: Factors for non-club incoming transfers | F34: Male | G34: Age last birthday at relevant date | H34: 0 | I34: TVIN_15M (226) | J34: 0-226 | K34: Table TVIN_15M | L34: Police pension scheme (England & Wales): 2015 Scheme; Non-Club incoming transfers; Factors and guidance dated 10 December 2020 | M34: 45106 | O34: Issued
A35: =HYPERLINK("#'"&I35 & "'!A1",I35) -> TVIN_15F (227) | B35: Police_EW | C35: 2015 | D35: TV In (non-club) | E35: Factors for non-club incoming transfers | F35: Female | G35: Age last birthday at relevant date | H35: 0 | I35: TVIN_15F (227) | J35: 0-227 | K35: Table TVIN_15F | L35: Police pension scheme (England & Wales): 2015 Scheme; Non-Club incoming transfers; Factors and guidance dated 10 December 2020 | M35: 45106 | O35: Issued
A36: =HYPERLINK("#'"&I36 & "'!A1",I36) -> TVIN_15GMP (228) | B36: Police_EW | C36: 2015 | D36: TV In (non-club) | E36: GMP test factors | F36: Male & Female | G36: Age last birthday at relevant date | H36: 0 | I36: TVIN_15GMP (228) | J36: 0-228 | K36: Table TVIN_15GMP | L36: Police pension scheme (England & Wales): 2015 Scheme; Non-Club incoming transfers; Factors and guidance dated 10 December 2020 | M36: 45106 | O36: Issued
A37: =HYPERLINK("#'"&I37 & "'!A1",I37) -> M (229) | B37: Police_EW | C37: 1987 | D37: CETV | E37: CETV - Factors used in the calculation of Adjustment B (F P-A) | F37: Male and Female | G37: Age last birthday at relevant date | H37: 2 | I37: M (229) | J37: 2-229 | K37: Table M | L37: Police pension schemes (England & Wales): 1987 Scheme; Transfer values and pension sharing on divorce; Factors and guidance, dated 10 December 2020 | M37: 45070 | O37: Issued | P37: POLICE_EW_2-229 | Q37: \\GAD-AST\AST\Factors\2022\2022 Factor Review\Pol EW\Step 4 Mortality Change\POL EW CETV bespoke outputs - A + B - C v0.02 v5 SCAPE 1.7% v0.02_GMP2.3 NI_Mods S3_Tables.xlsm | R37: Scott.WaygoodMA | S37: 44977.469
A38: =HYPERLINK("#'"&I38 & "'!A1",I38) -> G1 (301) | B38: Police_EW | C38: 1987 | D38: PenCE | E38: Pensioner cash equivalent factors for divorce purposes - retirement not on grounds of ill health | F38: Male | G38: Age last birthday at relevant date | H38: 2 | I38: G1 (301) | J38: 2-301 | K38: Table G1 | L38: Police pension schemes (England & Wales): 1987 Scheme; Transfer values and pension sharing on divorce; Factors and guidance, dated 10 December 2020 | M38: 45070 | O38: Issued | P38: POLICE_EW_2-301 | Q38: \\GAD-AST\AST\Factors\2022\2022 Factor Review\Pol EW\Step 4 Mortality Change\POL EW CETV bespoke outputs - A + B - C v0.02 v5 SCAPE 1.7% v0.02_GMP2.3 NI_Mods S3_Tables.xlsm | R38: Scott.WaygoodMA | S38: 44977.468
A39: =HYPERLINK("#'"&I39 & "'!A1",I39) -> G2 (302) | B39: Police_EW | C39: 1987 | D39: PenCE | E39: Pensioner cash equivalent factors for divorce purposes - retirement not on grounds of ill health | F39: Female | G39: Age last birthday at relevant date | H39: 2 | I39: G2 (302) | J39: 2-302 | K39: Table G2 | L39: Police pension schemes (England & Wales): 1987 Scheme; Transfer values and pension sharing on divorce; Factors and guidance, dated 10 December 2020 | M39: 45070 | O39: Issued | P39: POLICE_EW_2-302 | Q39: \\GAD-AST\AST\Factors\2022\2022 Factor Review\Pol EW\Step 4 Mortality Change\POL EW CETV bespoke outputs - A + B - C v0.02 v5 SCAPE 1.7% v0.02_GMP2.3 NI_Mods S3_Tables.xlsm | R39: Scott.WaygoodMA | S39: 44977.468
A40: =HYPERLINK("#'"&I40 & "'!A1",I40) -> H1 (303) | B40: Police_EW | C40: 1987 | D40: PenCE | E40: Ill health pensioner cash equivalent factors for divorce purposes - retirement on grounds of ill health | F40: Male | G40: Age last birthday at relevant date | H40: 2 | I40: H1 (303) | J40: 2-303 | K40: Table H1 | L40: Police pension schemes (England & Wales): 1987 Scheme; Transfer values and pension sharing on divorce; Factors and guidance, dated 10 December 2020 | M40: 45070 | O40: Issued | P40: POLICE_EW_2-303 | Q40: \\GAD-AST\AST\Factors\2022\2022 Factor Review\Pol EW\Step 4 Mortality Change\POL EW CETV bespoke outputs - A + B - C v0.02 v5 SCAPE 1.7% v0.02_GMP2.3 NI_Mods S3_Tables.xlsm | R40: Scott.WaygoodMA | S40: 44977.468
A41: =HYPERLINK("#'"&I41 & "'!A1",I41) -> H2 (304) | B41: Police_EW | C41: 1987 | D41: PenCE | E41: Ill health pensioner cash equivalent factors for divorce purposes - retirement on grounds of ill health | F41: Female | G41: Age last birthday at relevant date | H41: 2 | I41: H2 (304) | J41: 2-304 | K41: Table H2 | L41: Police pension schemes (England & Wales): 1987 Scheme; Transfer values and pension sharing on divorce; Factors and guidance, dated 10 December 2020 | M41: 45070 | O41: Issued | P41: POLICE_EW_2-304 | Q41: \\GAD-AST\AST\Factors\2022\2022 Factor Review\Pol EW\Step 4 Mortality Change\POL EW CETV bespoke outputs - A + B - C v0.02 v5 SCAPE 1.7% v0.02_GMP2.3 NI_Mods S3_Tables.xlsm | R41: Scott.WaygoodMA | S41: 44977.468
A42: =HYPERLINK("#'"&I42 & "'!A1",I42) -> G1_06 (305) | B42: Police_EW | C42: 2006 | D42: PenCE | E42: Pensioner cash equivalent factors for divorce purposes - retirement not on grounds of ill health | F42: Male | G42: Age last birthday at relevant date | H42: 1 | I42: G1_06 (305) | J42: 1-305 | K42: Table G1_06 | L42: Police pension schemes (England & Wales): 2006 Scheme; Transfer values and pension sharing on divorce; Factors and guidance, dated 10 December 2020 | M42: 45070 | O42: Issued | P42: POLICE_EW_1-305 | Q42: \\GAD-AST\AST\Factors\2022\2022 Factor Review\Pol EW\Step 4 Mortality Change\POL EW CETV bespoke outputs - A + B - C v0.02 v5 SCAPE 1.7% v0.02_GMP2.3 NI_Mods S3_Tables.xlsm | R42: Scott.WaygoodMA | S42: 44977.468
A43: =HYPERLINK("#'"&I43 & "'!A1",I43) -> G2_06 (306) | B43: Police_EW | C43: 2006 | D43: PenCE | E43: Pensioner cash equivalent factors for divorce purposes - retirement not on grounds of ill health | F43: Female | G43: Age last birthday at relevant date | H43: 1 | I43: G2_06 (306) | J43: 1-306 | K43: Table G2_06 | L43: Police pension schemes (England & Wales): 2006 Scheme; Transfer values and pension sharing on divorce; Factors and guidance, dated 10 December 2020 | M43: 45070 | O43: Issued | P43: POLICE_EW_1-306 | Q43: \\GAD-AST\AST\Factors\2022\2022 Factor Review\Pol EW\Step 4 Mortality Change\POL EW CETV bespoke outputs - A + B - C v0.02 v5 SCAPE 1.7% v0.02_GMP2.3 NI_Mods S3_Tables.xlsm | R43: Scott.WaygoodMA | S43: 44977.469
...

Sheet x-Series Number
A1: Government Actuary's Department | L1: =HYPERLINK("#'Factor List'!A1","Back to Factor List") -> Back to Factor List
A2: =IF(title="> Enter workbook title here","Enter workbook title in Cover sheet",title) -> Police_EW - Consolidated Factor Spreadsheet
A3: =TABLE_FACTOR_TYPE&" - x-"&TABLE_SERIES_NUMBER -> Enter the factor type (which should be consistent with the series header types found on the summary sheet (eg early or late retirement) - x-Enter series number (this reflects the number in the relevant series eg if it’s the first ER/LR factor then it would be "401")
A4: =CELL("filename",A1) -> P:\AST development\Hosted\Factors Modernisation\Data import\Consolidated Factor Workbooks\[Police EW Consolidated Factors 2023-04.xlsm]x-Series Number
A6: Data Item | B6: Factor Table Information
A7: Client | B7: Enter the client name eg NHSPS_EW
A8: Section | B8: Enter the section name eg NHSPS 2015
A9: Factor Type | B9: Enter the factor type (which should be consistent with the series header types found on the summary sheet (eg early or late retirement)
A10: Description | B10: Enter a description of the factor (eg use description from factor table in guidance)
A11: Gender | B11: Enter either "unisex" or "m and f"
A12: Factor Age/Period Definition | B12: Enter in age definition
A13: Section Number | B13: Enter section number (this relates to the number used to identify the scheme section - see top of summary tab for section number)
A14: Series Number | B14: Enter series number (this reflects the number in the relevant series eg if it’s the first ER/LR factor then it would be "401")
A15: Table Reference | B15: Enter table number (this is the section number plus the series number so we can identify the section and factor type eg if the section number for NHSPS 2015 was 0 and the factor was the first in the ER/LR factor series then this would be "0-401" entered here.
A16: Table Reference in Guidance | B16: Enter the table reference from the guidance notes
A17: Related Factor Table Reference (where the factor uses the same table as another factor in this spreadsheet) | B17: If the factor table on this sheet is the same as another factor in the spreadsheet. Then enter that table reference here eg 0-.201. If this factor table is unique then put "n/a".
... A20: Factor Status | B20: Enter whether table is inforce, withdrawn, refer to gad etc
B22: =HYPERLINK("#'Factor List'!A1","Back to Factor List") -> Back to Factor List
A25: Copy the relevant factor table and foot notes here. Unisex or male factor table in this grey box.

Sheet NA1 (201)
A1: Government Actuary's Department
A2: =IF(title="> Enter workbook title here","Enter workbook title in Cover sheet",title) -> Police_EW - Consolidated Factor Spreadsheet
A3: =TABLE_FACTOR_TYPE&" - x-"&TABLE_SERIES_NUMBER -> CETV - x-201
A6: Data Item | B6: Factor Table Information
A7: Client | B7: Police_EW
A8: Section | B8: 1987
A9: Factor Type | B9: CETV
A10: Description | B10: Non club transfer value factors for deferred benefits payable from 60
A11: Gender | B11: Male
A12: Factor Age/Period Definition | B12: Age last birthday at relevant date
A13: Section Number | B13: 2
A14: Series Number | B14: 201
A15: Table Reference | B15: 2-201
A16: Table Reference in Guidance | B16: Table NA1
A17: Associated Guidance Note | B17: Police pension schemes (England & Wales): 1987 Scheme; Transfer values and pension sharing on divorce; Factors and guidance, dated 10 December 2020
A18: Date Factors Issued to Client | B18: ="24 May 2023" -> 24 May 2023
A19: Date Factors Implemented (if known)
A20: Factor Status | B20: =INDEX('Factor List'!$O:$O,MATCH(B$15,'Factor List'!$J:$J,0)) -> Issued
B22: =HYPERLINK("#'Factor List'!A1","Back to Factor List") -> Back to Factor List
A25: Age | B25: Pension of £1 per annum | C25: Survivor's pension of £1 per annum
A26: 18 | B26: 11.29 | C26: 2
A27: 19 | B27: 11.46 | C27: 2.09
A28: 20 | B28: 11.63 | C28: 2.12
A29: 21 | B29: 11.8 | C29: 2.16
A30: 22 | B30: 11.97 | C30: 2.19
A31: 23 | B31: 12.15 | C31: 2.22
A32: 24 | B32: 12.33 | C32: 2.26
A33: 25 | B33: 12.51 | C33: 2.29
A34: 26 | B34: 12.7 | C34: 2.33
A35: 27 | B35: 12.88 | C35: 2.36
A36: 28 | B36: 13.07 | C36: 2.4
A37: 29 | B37: 13.27 | C37: 2.43
... A67: 59 | B67: 21.23 | C67: 3.19

Sheet A1 (201C)
A1: Government Actuary's Department
A2: =IF(title="> Enter workbook title here","Enter workbook title in Cover sheet",title) -> Police_EW - Consolidated Factor Spreadsheet
A4: Data Item | B4: Factor Table Information
A5: Client | B5: Police_EW
A6: Section | B6: 1987
A7: Factor Type | B7: CETV
A8: Description | B8: Club transfer value factors for deferred benefits payable from 60
A9: Gender | B9: Male
A10: Factor Age/Period Definition | B10: Age last birthday at relevant date
A11: Table Reference | B11: 201C
A12: Table Reference in Guidance | B12: Table A1 (Table 2 in Public Sector Transfer Club Factors 2023 workbook)
A13: Associated Guidance Note | B13: ='[3]Factor List'!I8 -> Police pension schemes (England & Wales): 1987 Scheme; Transfer values and pension sharing on divorce; Factors and guidance, dated 10 December 2020
A14: Date Factors Issued to Client | B14: 45169
A15: Date Factors Implemented (if known) | B15: 45200
A16: Factor Status | B16: Issued
B18: =HYPERLINK("#'Factor List'!A1","Back to Factor List") -> Back to Factor List
A21: Age | B21: Pension of £1 per annum | C21: Survivor's pension of £1 per annum
A22: 18 | B22: 11.7 | C22: 1.37
A23: 19 | B23: 11.87 | C23: 1.39
A24: 20 | B24: 12.05 | C24: 1.41
A25: 21 | B25: 12.23 | C25: 1.44
A26: 22 | B26: 12.41 | C26: 1.46
A27: 23 | B27: 12.6 | C27: 1.48
A28: 24 | B28: 12.79 | C28: 1.5
A29: 25 | B29: 12.98 | C29: 1.52
A30: 26 | B30: 13.17 | C30: 1.55
A31: 27 | B31: 13.37 | C31: 1.57
A32: 28 | B32: 13.57 | C32: 1.59
A33: 29 | B33: 13.78 | C33: 1.62
... A63: 59 | B63: 21.99 | C63: 2.11

Sheet NA2 (202)
A1: Government Actuary's Department
A2: =IF(title="> Enter workbook title here","Enter workbook title in Cover sheet",title) -> Police_EW - Consolidated Factor Spreadsheet
A3: =TABLE_FACTOR_TYPE&" - x-"&TABLE_SERIES_NUMBER -> CETV - x-202
A6: Data Item | B6: Factor Table Information
A7: Client | B7: Police_EW
A8: Section | B8: 1987
A9: Factor Type | B9: CETV
A10: Description | B10: Non club transfer value factors for deferred benefits payable from 60
A11: Gender | B11: Female
A12: Factor Age/Period Definition | B12: Age last birthday at relevant date
A13: Section Number | B13: 2
A14: Series Number | B14: 202
A15: Table Reference | B15: 2-202
A16: Table Reference in Guidance | B16: Table NA2
A17: Associated Guidance Note | B17: =INDEX('Factor List'!$L:$L,MATCH(B$15,'Factor List'!$J:$J,0)) -> Police pension schemes (England & Wales): 1987 Scheme; Transfer values and pension sharing on divorce; Factors and guidance, dated 10 December 2020
A18: Date Factors Issued to Client | B18: ="24 May 2023" -> 24 May 2023
A19: Date Factors Implemented (if known)
A20: Factor Status | B20: =INDEX('Factor List'!$O:$O,MATCH(B$15,'Factor List'!$J:$J,0)) -> Issued
B22: =HYPERLINK("#'Factor List'!A1","Back to Factor List") -> Back to Factor List
A25: Age | B25: Pension of £1 per annum | C25: Survivor's pension of £1 per annum
A26: 18 | B26: 11.29 | C26: 2
A27: 19 | B27: 11.46 | C27: 2.09
A28: 20 | B28: 11.63 | C28: 2.12
A29: 21 | B29: 11.8 | C29: 2.16
A30: 22 | B30: 11.97 | C30: 2.19
A31: 23 | B31: 12.15 | C31: 2.22
A32: 24 | B32: 12.33 | C32: 2.26
A33: 25 | B33: 12.51 | C33: 2.29
A34: 26 | B34: 12.7 | C34: 2.33
A35: 27 | B35: 12.88 | C35: 2.36
A36: 28 | B36: 13.07 | C36: 2.4
A37: 29 | B37: 13.27 | C37: 2.43
... A67: 59 | B67: 21.23 | C67: 3.19

Sheet A2 (202C)
A1: Government Actuary's Department
A2: =IF(title="> Enter workbook title here","Enter workbook title in Cover sheet",title) -> Police_EW - Consolidated Factor Spreadsheet
A4: Data Item | B4: Factor Table Information
A5: Client | B5: Police_EW
A6: Section | B6: 1987
A7: Factor Type | B7: CETV
A8: Description | B8: Club transfer value factors for deferred benefits payable from 60
A9: Gender | B9: Female
A10: Factor Age/Period Definition | B10: Age last birthday at relevant date
A11: Table Reference | B11: 202C
A12: Table Reference in Guidance | B12: Table A2 (Table 2 in Public Sector Transfer Club Factors 2023 workbook)
A13: Associated Guidance Note | B13: ='[3]Factor List'!I8 -> Police pension schemes (England & Wales): 1987 Scheme; Transfer values and pension sharing on divorce; Factors and guidance, dated 10 December 2020
A14: Date Factors Issued to Client | B14: 45169
A15: Date Factors Implemented (if known) | B15: 45200
A16: Factor Status | B16: Issued
B18: =HYPERLINK("#'Factor List'!A1","Back to Factor List") -> Back to Factor List
A21: Age | B21: Pension of £1 per annum | C21: Survivor's pension of £1 per annum
A22: 18 | B22: 11.7 | C22: 1.37
A23: 19 | B23: 11.87 | C23: 1.39
A24: 20 | B24: 12.05 | C24: 1.41
A25: 21 | B25: 12.23 | C25: 1.44
A26: 22 | B26: 12.41 | C26: 1.46
A27: 23 | B27: 12.6 | C27: 1.48
A28: 24 | B28: 12.79 | C28: 1.5
A29: 25 | B29: 12.98 | C29: 1.52
A30: 26 | B30: 13.17 | C30: 1.55
A31: 27 | B31: 13.37 | C31: 1.57
A32: 28 | B32: 13.57 | C32: 1.59
A33: 29 | B33: 13.78 | C33: 1.62
... A63: 59 | B63: 21.99 | C63: 2.11

Sheet D1 (203)
A1: Government Actuary's Department
A2: =IF(title="> Enter workbook title here","Enter workbook title in Cover sheet",title) -> Police_EW - Consolidated Factor Spreadsheet
A3: =TABLE_FACTOR_TYPE&" - x-"&TABLE_SERIES_NUMBER -> CETV - x-203
A6: Data Item | B6: Factor Table Information
A7: Client | B7: Police_EW
A8: Section | B8: 1987
A9: Factor Type | B9: CETV
A10: Description | B10: CETV factors for deferred benefits payable from 50
A11: Gender | B11: Male
A12: Factor Age/Period Definition | B12: Age last birthday at relevant date
A13: Section Number | B13: 2
A14: Series Number | B14: 203
A15: Table Reference | B15: 2-203
A16: Table Reference in Guidance | B16: Table D1
A17: Associated Guidance Note | B17: =INDEX('Factor List'!$L:$L,MATCH(B$15,'Factor List'!$J:$J,0)) -> Police pension schemes (England & Wales): 1987 Scheme; Transfer values and pension sharing on divorce; Factors and guidance, dated 10 December 2020
A18: Date Factors Issued to Client | B18: ="24 May 2023" -> 24 May 2023
A19: Date Factors Implemented (if known)
A20: Factor Status | B20: =INDEX('Factor List'!$O:$O,MATCH(B$15,'Factor List'!$J:$J,0)) -> Issued
B22: =HYPERLINK("#'Factor List'!A1","Back to Factor List") -> Back to Factor List
A25: Age | B25: Pension of £1 per annum | C25: Survivor's pension of £1 per annum
A26: 43 | B26: 24.27 | C26: 2.8
A27: 44 | B27: 24.66 | C27: 2.83
A28: 45 | B28: 25.07 | C28: 2.85
A29: 46 | B29: 25.48 | C29: 2.88
A30: 47 | B30: 25.9 | C30: 2.9
A31: 48 | B31: 26.34 | C31: 2.93
A32: 49 | B32: 26.78 | C32: 2.95

Sheet D2 (204)
A1: Government Actuary's Department
A2: =IF(title="> Enter workbook title here","Enter workbook title in Cover sheet",title) -> Police_EW - Consolidated Factor Spreadsheet
A3: =TABLE_FACTOR_TYPE&" - x-"&TABLE_SERIES_NUMBER -> CETV - x-204
A6: Data Item | B6: Factor Table Information
A7: Client | B7: Police_EW
A8: Section | B8: 1987
A9: Factor Type | B9: CETV
A10: Description | B10: CETV factors for deferred benefits payable from 50
A11: Gender | B11: Female
A12: Factor Age/Period Definition | B12: Age last birthday at relevant date
A13: Section Number | B13: 2
A14: Series Number | B14: 204
A15: Table Reference | B15: 2-204
A16: Table Reference in Guidance | B16: Table D2
A17: Associated Guidance Note | B17: =INDEX('Factor List'!$L:$L,MATCH(B$15,'Factor List'!$J:$J,0)) -> Police pension schemes (England & Wales): 1987 Scheme; Transfer values and pension sharing on divorce; Factors and guidance, dated 10 December 2020
A18: Date Factors Issued to Client | B18: ="24 May 2023" -> 24 May 2023
A19: Date Factors Implemented (if known)
A20: Factor Status | B20: =INDEX('Factor List'!$O:$O,MATCH(B$15,'Factor List'!$J:$J,0)) -> Issued
B22: =HYPERLINK("#'Factor List'!A1","Back to Factor List") -> Back to Factor List
A25: Age | B25: Pension of £1 per annum | C25: Survivor's pension of £1 per annum
A26: 43 | B26: 24.27 | C26: 2.8
A27: 44 | B27: 24.66 | C27: 2.83
A28: 45 | B28: 25.07 | C28: 2.85
A29: 46 | B29: 25.48 | C29: 2.88
A30: 47 | B30: 25.9 | C30: 2.9
A31: 48 | B31: 26.34 | C31: 2.93
A32: 49 | B32: 26.78 | C32: 2.95

Sheet NF1 (205)
A1: Government Actuary's Department
A2: =IF(title="> Enter workbook title here","Enter workbook title in Cover sheet",title) -> Police_EW - Consolidated Factor Spreadsheet
A3: =TABLE_FACTOR_TYPE&" - x-"&TABLE_SERIES_NUMBER -> CETV - x-205
A6: Data Item | B6: Factor Table Information
A7: Client | B7: Police_EW
A8: Section | B8: 1987
A9: Factor Type | B9: CETV
A10: Description | B10: Non club transfer value factors for active members entitled to immediate benefits
A11: Gender | B11: Male
A12: Factor Age/Period Definition | B12: Age last birthday at relevant date
A13: Section Number | B13: 2
A14: Series Number | B14: 205
A15: Table Reference | B15: 2-205
A16: Table Reference in Guidance | B16: Table NF1
A17: Associated Guidance Note | B17: =INDEX('Factor List'!$L:$L,MATCH(B$15,'Factor List'!$J:$J,0)) -> Police pension schemes (England & Wales): 1987 Scheme; Transfer values and pension sharing on divorce; Factors and guidance, dated 10 December 2020
A18: Date Factors Issued to Client | B18: ="24 May 2023" -> 24 May 2023
A19: Date Factors Implemented (if known)
A20: Factor Status | B20: =INDEX('Factor List'!$O:$O,MATCH(B$15,'Factor List'!$J:$J,0)) -> Issued
B22: =HYPERLINK("#'Factor List'!A1","Back to Factor List") -> Back to Factor List
A25: Age | B25: Pension of £1 per annum | C25: Survivor's pension of £1 per annum
A26: 48 | B26: 27.66 | C26: 2.92
A27: 49 | B27: 27.23 | C27: 2.94
A28: 50 | B28: 26.77 | C28: 2.97
A29: 51 | B29: 26.29 | C29: 3
A30: 52 | B30: 25.79 | C30: 3.02
A31: 53 | B31: 25.26 | C31: 3.05
A32: 54 | B32: 24.7 | C32: 3.08
A33: 55 | B33: 24.12 | C33: 3.1
A34: 56 | B34: 23.53 | C34: 3.13
A35: 57 | B35: 22.94 | C35: 3.15
A36: 58 | B36: 22.33 | C36: 3.17
A37: 59 | B37: 21.72 | C37: 3.19

Sheet F1 (205C)
A1: Government Actuary's Department
A2: =IF(title="> Enter workbook title here","Enter workbook title in Cover sheet",title) -> Police_EW - Consolidated Factor Spreadsheet
A4: Data Item | B4: Factor Table Information
A5: Client | B5: Police_EW
A6: Section | B6: 1987
A7: Factor Type | B7: CETV
A8: Description | B8: Club Transfer value factors for active members entitled to immediate benefits
A9: Gender | B9: Unisex
A10: Factor Age/Period Definition | B10: Age last birthday at relevant date
A11: Table Reference | B11: 205C
A12: Table Reference in Guidance | B12: Table F1
A13: Associated Guidance Note | B13: ='[3]Factor List'!I14 -> Police pension schemes (England & Wales): 1987 Scheme; Transfer values and pension sharing on divorce; Factors and guidance, dated 10 December 2020
A14: Date Factors Issued to Client | B14: 45196
A15: Date Factors Implemented (if known) | B15: 45200
A16: Factor Status | B16: Issued
B18: =HYPERLINK("#'Factor List'!A1","Back to Factor List") -> Back to Factor List
A21: Age | B21: Pension of £1 per annum | C21: Survivor's pension of £1 per annum
A22: 48 | B22: 28.36 | C22: 1.92
A23: 49 | B23: 27.93 | C23: 1.94
A24: 50 | B24: 27.48 | C24: 1.96
A25: 51 | B25: 27 | C25: 1.98
A26: 52 | B26: 26.5 | C26: 2
A27: 53 | B27: 25.98 | C27: 2.01
A28: 54 | B28: 25.43 | C28: 2.03
A29: 55 | B29: 24.85 | C29: 2.05
A30: 56 | B30: 24.27 | C30: 2.06
A31: 57 | B31: 23.68 | C31: 2.08
A32: 58 | B32: 23.08 | C32: 2.09
A33: 59 | B33: 22.48 | C33: 2.11

Sheet NF2 (206)
A1: Government Actuary's Department
A2: =IF(title="> Enter workbook title here","Enter workbook title in Cover sheet",title) -> Police_EW - Consolidated Factor Spreadsheet
A3: =TABLE_FACTOR_TYPE&" - x-"&TABLE_SERIES_NUMBER -> CETV - x-206
A6: Data Item | B6: Factor Table Information
A7: Client | B7: Police_EW
A8: Section | B8: 1987
A9: Factor Type | B9: CETV
A10: Description | B10: Non club transfer value factors for active members entitled to immediate benefits
A11: Gender | B11: Female
A12: Factor Age/Period Definition | B12: Age last birthday at relevant date
A13: Section Number | B13: 2
A14: Series Number | B14: 206
A15: Table Reference | B15: 2-206
A16: Table Reference in Guidance | B16: Table NF2
A17: Associated Guidance Note | B17: =INDEX('Factor List'!$L:$L,MATCH(B$15,'Factor List'!$J:$J,0)) -> Police pension schemes (England & Wales): 1987 Scheme; Transfer values and pension sharing on divorce; Factors and guidance, dated 10 December 2020
A18: Date Factors Issued to Client | B18: ="24 May 2023" -> 24 May 2023
A19: Date Factors Implemented (if known)
A20: Factor Status | B20: =INDEX('Factor List'!$O:$O,MATCH(B$15,'Factor List'!$J:$J,0)) -> Issued
B22: =HYPERLINK("#'Factor List'!A1","Back to Factor List") -> Back to Factor List
A25: Age | B25: Pension of £1 per annum | C25: Survivor's pension of £1 per annum
A26: 48 | B26: 27.66 | C26: 2.92
A27: 49 | B27: 27.23 | C27: 2.94
A28: 50 | B28: 26.77 | C28: 2.97
A29: 51 | B29: 26.29 | C29: 3
A30: 52 | B30: 25.79 | C30: 3.02
A31: 53 | B31: 25.26 | C31: 3.05
A32: 54 | B32: 24.7 | C32: 3.08
A33: 55 | B33: 24.12 | C33: 3.1
A34: 56 | B34: 23.53 | C34: 3.13
A35: 57 | B35: 22.94 | C35: 3.15
A36: 58 | B36: 22.33 | C36: 3.17
A37: 59 | B37: 21.72 | C37: 3.19

Sheet F2 (206C)
A1: Government Actuary's Department
A2: =IF(title="> Enter workbook title here","Enter workbook title in Cover sheet",title) -> Police_EW - Consolidated Factor Spreadsheet
A4: Data Item | B4: Factor Table Information
A5: Client | B5: Police_EW
A6: Section | B6: 1987
A7: Factor Type | B7: CETV
A8: Description | B8: Club Transfer value factors for active members entitled to immediate benefits
A9: Gender | B9: Female
A10: Factor Age/Period Definition | B10: Age last birthday at relevant date
A11: Table Reference | B11: 206C
A12: Table Reference in Guidance | B12: Table F2
A13: Associated Guidance Note | B13: ='[3]Factor List'!I16 -> Police pension schemes (England & Wales): 1987 Scheme; Transfer values and pension sharing on divorce; Factors and guidance, dated 10 December 2020
A14: Date Factors Issued to Client | B14: 45196
A15: Date Factors Implemented (if known) | B15: 45200
A16: Factor Status | B16: Issued
B18: =HYPERLINK("#'Factor List'!A1","Back to Factor List") -> Back to Factor List
A21: Age | B21: Pension of £1 per annum | C21: Survivor's pension of £1 per annum
A22: 48 | B22: 28.36 | C22: 1.92
A23: 49 | B23: 27.93 | C23: 1.94
A24: 50 | B24: 27.48 | C24: 1.96
A25: 51 | B25: 27 | C25: 1.98
A26: 52 | B26: 26.5 | C26: 2
A27: 53 | B27: 25.98 | C27: 2.01
A28: 54 | B28: 25.43 | C28: 2.03
A29: 55 | B29: 24.85 | C29: 2.05
A30: 56 | B30: 24.27 | C30: 2.06
A31: 57 | B31: 23.68 | C31: 2.08
A32: 58 | B32: 23.08 | C32: 2.09
A33: 59 | B33: 22.48 | C33: 2.11

Sheet NA1_06 (207)
A1: Government Actuary's Department
A2: =IF(title="> Enter workbook title here","Enter workbook title in Cover sheet",title) -> Police_EW - Consolidated Factor Spreadsheet
A3: =TABLE_FACTOR_TYPE&" - x-"&TABLE_SERIES_NUMBER -> CETV - x-207
A6: Data Item | B6: Factor Table Information
A7: Client | B7: Police_EW
A8: Section | B8: 2006
A9: Factor Type | B9: CETV
A10: Description | B10: Non club transfer value factors for deferred benefits payable from 65
A11: Gender | B11: Male
A12: Factor Age/Period Definition | B12: Age last birthday at relevant date
A13: Section Number | B13: 1
A14: Series Number | B14: 207
A15: Table Reference | B15: 1-207
A16: Table Reference in Guidance | B16: Table NA1_06
A17: Associated Guidance Note | B17: =INDEX('Factor List'!$L:$L,MATCH(B$15,'Factor List'!$J:$J,0)) -> Police pension schemes (England & Wales): 2006 Scheme; Transfer values and pension sharing on divorce; Factors and guidance, dated 10 December 2020
A18: Date Factors Issued to Client | B18: ="24 May 2023" -> 24 May 2023
A19: Date Factors Implemented (if known)
A20: Factor Status | B20: =INDEX('Factor List'!$O:$O,MATCH(B$15,'Factor List'!$J:$J,0)) -> Issued
B22: =HYPERLINK("#'Factor List'!A1","Back to Factor List") -> Back to Factor List
A25: Age | B25: Gross pension of £1 per annum | C25: Lump sum of £1 | D25: Surviving partner's pension of £1 pa
A26: 18 | B26: 9 | C26: 0.46 | D26: 2.17
A27: 19 | B27: 9.13 | C27: 0.46 | D27: 2.26
A28: 20 | B28: 9.26 | C28: 0.47 | D28: 2.29
A29: 21 | B29: 9.4 | C29: 0.48 | D29: 2.33
A30: 22 | B30: 9.53 | C30: 0.49 | D30: 2.37
A31: 23 | B31: 9.66 | C31: 0.5 | D31: 2.41
A32: 24 | B32: 9.8 | C32: 0.51 | D32: 2.44
A33: 25 | B33: 9.94 | C33: 0.51 | D33: 2.48
A34: 26 | B34: 10.08 | C34: 0.52 | D34: 2.52
A35: 27 | B35: 10.23 | C35: 0.53 | D35: 2.56
A36: 28 | B36: 10.37 | C36: 0.54 | D36: 2.6
A37: 29 | B37: 10.52 | C37: 0.55 | D37: 2.63
... A72: 64 | B72: 18.09 | C72: 0.99 | D72: 3.49

Sheet NA2_06 (208)
A1: Government Actuary's Department
A2: =IF(title="> Enter workbook title here","Enter workbook title in Cover sheet",title) -> Police_EW - Consolidated Factor Spreadsheet
A3: =TABLE_FACTOR_TYPE&" - x-"&TABLE_SERIES_NUMBER -> CETV - x-208
A6: Data Item | B6: Factor Table Information
A7: Client | B7: Police_EW
A8: Section | B8: 2006
A9: Factor Type | B9: CETV
A10: Description | B10: Non club transfer value factors for deferred benefits payable from 65 - Females aged below 60
A11: Gender | B11: Female
A12: Factor Age/Period Definition | B12: Age last birthday at relevant date
A13: Section Number | B13: 1
A14: Series Number | B14: 208
A15: Table Reference | B15: 1-208
A16: Table Reference in Guidance | B16: Table NA2_06
A17: Associated Guidance Note | B17: =INDEX('Factor List'!$L:$L,MATCH(B$15,'Factor List'!$J:$J,0)) -> Police pension schemes (England & Wales): 2006 Scheme; Transfer values and pension sharing on divorce; Factors and guidance, dated 10 December 2020
A18: Date Factors Issued to Client | B18: ="24 May 2023" -> 24 May 2023
A19: Date Factors Implemented (if known)
A20: Factor Status | B20: =INDEX('Factor List'!$O:$O,MATCH(B$15,'Factor List'!$J:$J,0)) -> Issued
B22: =HYPERLINK("#'Factor List'!A1","Back to Factor List") -> Back to Factor List
A25: Age | B25: Gross pension of £1 per annum | C25: Lump sum of £1 | D25: Surviving partner's pension of £1 pa
A26: 18 | B26: 9 | C26: 0.46 | D26: 2.17
A27: 19 | B27: 9.13 | C27: 0.46 | D27: 2.26
A28: 20 | B28: 9.26 | C28: 0.47 | D28: 2.29
A29: 21 | B29: 9.4 | C29: 0.48 | D29: 2.33
A30: 22 | B30: 9.53 | C30: 0.49 | D30: 2.37
A31: 23 | B31: 9.66 | C31: 0.5 | D31: 2.41
A32: 24 | B32: 9.8 | C32: 0.51 | D32: 2.44
A33: 25 | B33: 9.94 | C33: 0.51 | D33: 2.48
A34: 26 | B34: 10.08 | C34: 0.52 | D34: 2.52
A35: 27 | B35: 10.23 | C35: 0.53 | D35: 2.56
A36: 28 | B36: 10.37 | C36: 0.54 | D36: 2.6
A37: 29 | B37: 10.52 | C37: 0.55 | D37: 2.63
... A67: 59 | B67: 16.53 | C67: 0.91 | D67: 3.49

Sheet NA3_06 (209)
A1: Government Actuary's Department
A2: =IF(title="> Enter workbook title here","Enter workbook title in Cover sheet",title) -> Police_EW - Consolidated Factor Spreadsheet
A3: =TABLE_FACTOR_TYPE&" - x-"&TABLE_SERIES_NUMBER -> CETV - x-209
A6: Data Item | B6: Factor Table Information
A7: Client | B7: Police_EW
A8: Section | B8: 2006
A9: Factor Type | B9: CETV
A10: Description | B10: Non club transfer value factors for deferred benefits payable from 65 - Females aged 60 and over
A11: Gender | B11: Female
A12: Factor Age/Period Definition | B12: Age last birthday at relevant date
A13: Section Number | B13: 1
A14: Series Number | B14: 209
A15: Table Reference | B15: 1-209
A16: Table Reference in Guidance | B16: Table NA3_06
A17: Associated Guidance Note | B17: =INDEX('Factor List'!$L:$L,MATCH(B$15,'Factor List'!$J:$J,0)) -> Police pension schemes (England & Wales): 2006 Scheme; Transfer values and pension sharing on divorce; Factors and guidance, dated 10 December 2020
A18: Date Factors Issued to Client | B18: ="24 May 2023" -> 24 May 2023
A19: Date Factors Implemented (if known)
A20: Factor Status | B20: =INDEX('Factor List'!$O:$O,MATCH(B$15,'Factor List'!$J:$J,0)) -> Issued
B22: =HYPERLINK("#'Factor List'!A1","Back to Factor List") -> Back to Factor List
A25: Age | B25: Gross pension of £1 per annum | C25: Lump sum of £1 | D25: Surviving partner's pension of £1 pa
A26: 60 | B26: 16.82 | C26: 0.93 | D26: 3.5
A27: 61 | B27: 17.11 | C27: 0.94 | D27: 3.5
A28: 62 | B28: 17.42 | C28: 0.96 | D28: 3.5
